BEGIN:VCALENDAR
VERSION:2.0
PRODID:-//Ben Harrison Camp No. 356, Sons of Union Veterans of the Civil War - Department of Indiana | Indianapolis, Indiana - ECPv6.13.2.1//NONSGML v1.0//EN
CALSCALE:GREGORIAN
METHOD:PUBLISH
X-WR-CALNAME:Ben Harrison Camp No. 356, Sons of Union Veterans of the Civil War - Department of Indiana | Indianapolis, Indiana
X-ORIGINAL-URL:http://benharrisoncamp.org
X-WR-CALDESC:Events for Ben Harrison Camp No. 356, Sons of Union Veterans of the Civil War - Department of Indiana | Indianapolis, Indiana
REFRESH-INTERVAL;VALUE=DURATION:PT1H
X-Robots-Tag:noindex
X-PUBLISHED-TTL:PT1H
BEGIN:VTIMEZONE
TZID:America/Indiana/Indianapolis
BEGIN:DAYLIGHT
TZOFFSETFROM:-0500
TZOFFSETTO:-0400
TZNAME:EDT
DTSTART:20250309T070000
END:DAYLIGHT
BEGIN:STANDARD
TZOFFSETFROM:-0400
TZOFFSETTO:-0500
TZNAME:EST
DTSTART:20251102T060000
END:STANDARD
END:VTIMEZONE
BEGIN:VEVENT
DTSTART;VALUE=DATE:20251101
DTEND;VALUE=DATE:20251102
DTSTAMP:20260423T214807
CREATED:20241122T182508Z
LAST-MODIFIED:20241122T182508Z
UID:3700-1761955200-1762041599@benharrisoncamp.org
SUMMARY:Department of Indiana Mid-Year Encampment
DESCRIPTION:Department of Indiana Mid-Year Encampment\, Location and Time TBD
URL:http://benharrisoncamp.org/event/department-of-indiana-mid-year-encampment/
CATEGORIES:Department Encampment
END:VEVENT
BEGIN:VEVENT
DTSTART;TZID=America/Indiana/Indianapolis:20251108T113000
DTEND;TZID=America/Indiana/Indianapolis:20251108T133000
DTSTAMP:20260423T214807
CREATED:20241122T182826Z
LAST-MODIFIED:20241122T182826Z
UID:3702-1762601400-1762608600@benharrisoncamp.org
SUMMARY:Camp Meeting-Michigan Road Branch Marion County Public Library
DESCRIPTION:Camp Business Meeting (2026 Officer Installations)\nMichigan Road Branch Marion County Public Library-Small Meeting Room\n6201 Michigan Road Indianapolis\, IN 46268\nNote: This meeting will also be hosted via Zoom
URL:http://benharrisoncamp.org/event/camp-meeting-michigan-road-branch-marion-county-public-library-5/
LOCATION:Michigan Road Branch Marion County Public Library\, 6201 Michigan Rd.\, Indianapolis\, IN\, 46268\, United States
CATEGORIES:Camp Meeting
END:VEVENT
BEGIN:VEVENT
DTSTART;VALUE=DATE:20251115
DTEND;VALUE=DATE:20251116
DTSTAMP:20260423T214807
CREATED:20241122T183009Z
LAST-MODIFIED:20241122T183009Z
UID:3704-1763164800-1763251199@benharrisoncamp.org
SUMMARY:Remembrance Day – Gettysburg\, PA
DESCRIPTION:Remembrance Day – Gettysburg\, PA
URL:http://benharrisoncamp.org/event/remembrance-day-gettysburg-pa/
LOCATION:Gettysburg\, Gettysburg\, PA\, United States
CATEGORIES:Remembrance Day
END:VEVENT
END:VCALENDAR