BEGIN:VCALENDAR
VERSION:2.0
PRODID:-//Ben Harrison Camp No. 356, Sons of Union Veterans of the Civil War - Department of Indiana | Indianapolis, Indiana - ECPv6.13.2.1//NONSGML v1.0//EN
CALSCALE:GREGORIAN
METHOD:PUBLISH
X-ORIGINAL-URL:http://benharrisoncamp.org
X-WR-CALDESC:Events for Ben Harrison Camp No. 356, Sons of Union Veterans of the Civil War - Department of Indiana | Indianapolis, Indiana
REFRESH-INTERVAL;VALUE=DURATION:PT1H
X-Robots-Tag:noindex
X-PUBLISHED-TTL:PT1H
BEGIN:VTIMEZONE
TZID:America/Indiana/Indianapolis
BEGIN:DAYLIGHT
TZOFFSETFROM:-0500
TZOFFSETTO:-0400
TZNAME:EDT
DTSTART:20190310T070000
END:DAYLIGHT
BEGIN:STANDARD
TZOFFSETFROM:-0400
TZOFFSETTO:-0500
TZNAME:EST
DTSTART:20191103T060000
END:STANDARD
BEGIN:DAYLIGHT
TZOFFSETFROM:-0500
TZOFFSETTO:-0400
TZNAME:EDT
DTSTART:20200308T070000
END:DAYLIGHT
BEGIN:STANDARD
TZOFFSETFROM:-0400
TZOFFSETTO:-0500
TZNAME:EST
DTSTART:20201101T060000
END:STANDARD
BEGIN:DAYLIGHT
TZOFFSETFROM:-0500
TZOFFSETTO:-0400
TZNAME:EDT
DTSTART:20210314T070000
END:DAYLIGHT
BEGIN:STANDARD
TZOFFSETFROM:-0400
TZOFFSETTO:-0500
TZNAME:EST
DTSTART:20211107T060000
END:STANDARD
BEGIN:DAYLIGHT
TZOFFSETFROM:-0500
TZOFFSETTO:-0400
TZNAME:EDT
DTSTART:20220313T070000
END:DAYLIGHT
BEGIN:STANDARD
TZOFFSETFROM:-0400
TZOFFSETTO:-0500
TZNAME:EST
DTSTART:20221106T060000
END:STANDARD
END:VTIMEZONE
BEGIN:VTIMEZONE
TZID:UTC
BEGIN:STANDARD
TZOFFSETFROM:+0000
TZOFFSETTO:+0000
TZNAME:UTC
DTSTART:20190101T000000
END:STANDARD
END:VTIMEZONE
BEGIN:VEVENT
DTSTART;TZID=America/Indiana/Indianapolis:20221112T113000
DTEND;TZID=America/Indiana/Indianapolis:20221112T140000
DTSTAMP:20260423T190954
CREATED:20220608T140018Z
LAST-MODIFIED:20220608T140231Z
UID:3549-1668252600-1668261600@benharrisoncamp.org
SUMMARY:Camp Meeting
DESCRIPTION:Camp Business Meeting – Speedway MCL Cafeteria\n6002 Crawfordsville Road\, Indianapolis\, IN 46224\nNote: This meeting will also be hosted via Zoom
URL:http://benharrisoncamp.org/event/camp-meeting-29/
CATEGORIES:Camp Meeting
END:VEVENT
BEGIN:VEVENT
DTSTART;TZID=America/Indiana/Indianapolis:20221029T090000
DTEND;TZID=America/Indiana/Indianapolis:20221029T170000
DTSTAMP:20260423T190954
CREATED:20220916T131923Z
LAST-MODIFIED:20220916T131923Z
UID:3565-1667034000-1667062800@benharrisoncamp.org
SUMMARY:Department of Indiana 2022 Mid-Year Encampment
DESCRIPTION:The 2022 Mid-Year Encampment will be hosted by John Auten Camp No. 8\, SUVCW on October 29\, 2022. The doors will open at 9:00 a.m. EDT and the Encampment will begin promptly at 9:30 a.m. EDT. \nThe 2022 Mid-Year Encampment will be held at Mishawaka-Penn-Harris Public Library\, 209 Lincolnway East\, Mishawaka\, IN 46544. \nThe Lunch meal will be held on-site and is available for advance purchase. Please see the following link for the Pre-Registration Form and lunch choices:\n2022 Mid-Year Encampment Flyer \nIt is requested that all Camps bring their Camp flag and its stand to the Encampment for display. \nI am very pleased to report that Sisters of the Allied Orders representing at least the Woman’s Relief Corps and the Ladies of the Grand Army of the Republic will also be meeting during the Encampment. Sisters will join us for a joint opening of the Encampment and during lunch. \nOrdered this 3rd Day of September 2022 \nJames M. Floyd\, Jr.\nDepartment Commander\nDepartment of Indiana\, Sons of Union Veterans of the Civil War
URL:http://benharrisoncamp.org/event/department-of-indiana-2022-mid-year-encampment/
CATEGORIES:Department Encampment
END:VEVENT
BEGIN:VEVENT
DTSTART;TZID=America/Indiana/Indianapolis:20221008T113000
DTEND;TZID=America/Indiana/Indianapolis:20221008T140000
DTSTAMP:20260423T190954
CREATED:20220608T135934Z
LAST-MODIFIED:20220608T140247Z
UID:3547-1665228600-1665237600@benharrisoncamp.org
SUMMARY:Camp Meeting
DESCRIPTION:Camp Business Meeting – Speedway MCL Cafeteria\n6002 Crawfordsville Road\, Indianapolis\, IN 46224\nNote: This meeting will also be hosted via Zoom
URL:http://benharrisoncamp.org/event/camp-meeting-28/
CATEGORIES:Camp Meeting
END:VEVENT
BEGIN:VEVENT
DTSTART;TZID=America/Indiana/Indianapolis:20220910T113000
DTEND;TZID=America/Indiana/Indianapolis:20220910T140000
DTSTAMP:20260423T190954
CREATED:20220608T135852Z
LAST-MODIFIED:20220608T140310Z
UID:3545-1662809400-1662818400@benharrisoncamp.org
SUMMARY:Camp Meeting
DESCRIPTION:Camp Business Meeting – Speedway MCL Cafeteria\n6002 Crawfordsville Road\, Indianapolis\, IN 46224\nNote: This meeting will also be hosted via Zoom
URL:http://benharrisoncamp.org/event/camp-meeting-27/
CATEGORIES:Camp Meeting
END:VEVENT
BEGIN:VEVENT
DTSTART;VALUE=DATE:20220811
DTEND;VALUE=DATE:20220815
DTSTAMP:20260423T190954
CREATED:20220608T141453Z
LAST-MODIFIED:20220608T141453Z
UID:3553-1660176000-1660521599@benharrisoncamp.org
SUMMARY:2022 National Encampment - Grand Rapids\, Michigan
DESCRIPTION:See the 2022 National Encampment website for more details: https://www.suvcwmi.org/2022NatEncampment/2022Encampment.php
URL:http://benharrisoncamp.org/event/2022-national-encampment-grand-rapids-michigan/
CATEGORIES:National Encampment
END:VEVENT
BEGIN:VEVENT
DTSTART;TZID=America/Indiana/Indianapolis:20220709T113000
DTEND;TZID=America/Indiana/Indianapolis:20220709T140000
DTSTAMP:20260423T190954
CREATED:20220608T135658Z
LAST-MODIFIED:20220706T183243Z
UID:3543-1657366200-1657375200@benharrisoncamp.org
SUMMARY:Camp Meeting-Via Zoom Only
DESCRIPTION:Note: This meeting will  be hosted via Zoom only
URL:http://benharrisoncamp.org/event/camp-meeting-26/
CATEGORIES:Camp Meeting
END:VEVENT
BEGIN:VEVENT
DTSTART;TZID=America/Indiana/Indianapolis:20220604T113000
DTEND;TZID=America/Indiana/Indianapolis:20220604T150000
DTSTAMP:20260423T190954
CREATED:20220525T142231Z
LAST-MODIFIED:20220525T142231Z
UID:3538-1654342200-1654354800@benharrisoncamp.org
SUMMARY:136th Annual Encampment of the Sons of Union Veterans of the Civil War\, Department of Indiana
DESCRIPTION:136th Annual Encampment of the Sons of Union Veterans of the Civil War\, Department of Indiana \nJune 4\, 2022\, 9:30AM EDT\nKokomo-Howard County Public Library\, South Branch\n1755 E Center Rd\nKokomo\, IN \nDue to limited seating please reserve your seat:\nContact Commander\, Dennis Hutchinson at 31stind@gmail.com
URL:http://benharrisoncamp.org/event/136th-annual-encampment-of-the-sons-of-union-veterans-of-the-civil-war-department-of-indiana/
CATEGORIES:Encampment
END:VEVENT
BEGIN:VEVENT
DTSTART;TZID=America/Indiana/Indianapolis:20220530T110000
DTEND;TZID=America/Indiana/Indianapolis:20220530T113000
DTSTAMP:20260423T190954
CREATED:20220525T141654Z
LAST-MODIFIED:20220525T143845Z
UID:3535-1653908400-1653910200@benharrisoncamp.org
SUMMARY:Ben Harrison Camp 2022 Memorial Day Service
DESCRIPTION:Please join us for the Ben Harrison Camp annual Memorial Day Service to take place at the Acton Cemetery (southeast side of Marion County)\, on Monday\, May 30\, 2022. The service starts at 11:00AM EDT. \nDownload the Ben Harrison Camp 2022 Memorial Day Program Here: http://benharrisoncamp.org/wp-content/uploads/2020/03/Ben-Harrison-Camp-Memorial-Day-2022-Program.pdf
URL:http://benharrisoncamp.org/event/ben-harrison-camp-annual-memorial-day-service/
LOCATION:Acton Cemetery\, 7900 Acton Rd\, Indianapolis\, Indiana\, 46259\, United States
CATEGORIES:Memorial Service
END:VEVENT
BEGIN:VEVENT
DTSTART;TZID=America/Indiana/Indianapolis:20220514T090000
DTEND;TZID=America/Indiana/Indianapolis:20220514T140000
DTSTAMP:20260423T190954
CREATED:20220213T185914Z
LAST-MODIFIED:20220213T190236Z
UID:3526-1652518800-1652536800@benharrisoncamp.org
SUMMARY:Ben Harrison Camp Annual Cemetery Work Day
DESCRIPTION:The Ben Harrison Camp Annual Cemetery Work Day at the Acton Cemetery\, Acton\, Franklin Township\, Marion County. Work starts at 9:00AM
URL:http://benharrisoncamp.org/event/camp-annual-cemetery-work-day/
LOCATION:Acton Cemetery\, 7900 Acton Rd\, Indianapolis\, Indiana\, 46259\, United States
CATEGORIES:Cemetery Cleaning
END:VEVENT
BEGIN:VEVENT
DTSTART;TZID=America/Indiana/Indianapolis:20220409T113000
DTEND;TZID=America/Indiana/Indianapolis:20220409T140000
DTSTAMP:20260423T190954
CREATED:20220213T185549Z
LAST-MODIFIED:20220213T185549Z
UID:3524-1649503800-1649512800@benharrisoncamp.org
SUMMARY:Camp Meeting
DESCRIPTION:Camp Business Meeting – Speedway MCL Cafeteria\n6002 Crawfordsville Road\, Indianapolis\, IN 46224\nNote: This meeting will also be hosted via Zoom
URL:http://benharrisoncamp.org/event/camp-meeting-25/
LOCATION:MCL Cafeteria – Speedway Shopping Center\, 6002 Crawfordsville Rd\, Speedway\, IN\, 46224\, United States
CATEGORIES:Camp Meeting
END:VEVENT
BEGIN:VEVENT
DTSTART;TZID=America/Indiana/Indianapolis:20220312T113000
DTEND;TZID=America/Indiana/Indianapolis:20220312T140000
DTSTAMP:20260423T190954
CREATED:20220213T185331Z
LAST-MODIFIED:20220213T185331Z
UID:3522-1647084600-1647093600@benharrisoncamp.org
SUMMARY:Camp Meeting
DESCRIPTION:Camp Business Meeting – Speedway MCL Cafeteria\n6002 Crawfordsville Road\, Indianapolis\, IN 46224\nNote: This meeting will also be hosted via Zoom
URL:http://benharrisoncamp.org/event/camp-meeting-24/
LOCATION:MCL Cafeteria – Speedway Shopping Center\, 6002 Crawfordsville Rd\, Speedway\, IN\, 46224\, United States
CATEGORIES:Camp Meeting
END:VEVENT
BEGIN:VEVENT
DTSTART;TZID=America/Indiana/Indianapolis:20220212T111500
DTEND;TZID=America/Indiana/Indianapolis:20220212T140000
DTSTAMP:20260423T190954
CREATED:20220129T204559Z
LAST-MODIFIED:20220213T183644Z
UID:3492-1644664500-1644674400@benharrisoncamp.org
SUMMARY:Camp Meeting
DESCRIPTION:
URL:http://benharrisoncamp.org/event/camp-meeting-23/
LOCATION:MCL Cafeteria – Speedway Shopping Center\, 6002 Crawfordsville Rd\, Speedway\, IN\, 46224\, United States
CATEGORIES:Camp Meeting
END:VEVENT
BEGIN:VEVENT
DTSTART;TZID=America/Indiana/Indianapolis:20211113T111500
DTEND;TZID=America/Indiana/Indianapolis:20211113T140000
DTSTAMP:20260423T190954
CREATED:20211012T150456Z
LAST-MODIFIED:20211012T150456Z
UID:3471-1636802100-1636812000@benharrisoncamp.org
SUMMARY:Camp Meeting
DESCRIPTION:Camp Business Meeting – Speedway MCL Cafeteria\n6002 Crawfordsville Road\, Indianapolis\, IN 46224\nNote: This meeting will also be hosted via Zoom
URL:http://benharrisoncamp.org/event/camp-meeting-22/
CATEGORIES:Camp Meeting
END:VEVENT
BEGIN:VEVENT
DTSTART;TZID=America/Indiana/Indianapolis:20211009T111500
DTEND;TZID=America/Indiana/Indianapolis:20211009T140000
DTSTAMP:20260423T190954
CREATED:20210915T183209Z
LAST-MODIFIED:20210915T183209Z
UID:3464-1633778100-1633788000@benharrisoncamp.org
SUMMARY:Camp Meeting
DESCRIPTION:Camp Business Meeting – Speedway MCL Cafeteria\n6002 Crawfordsville Road\, Indianapolis\, IN 46224\nNote: This meeting will also be hosted via Zoom
URL:http://benharrisoncamp.org/event/camp-meeting-21/
CATEGORIES:Camp Meeting
END:VEVENT
BEGIN:VEVENT
DTSTART;TZID=America/Indiana/Indianapolis:20210911T110000
DTEND;TZID=America/Indiana/Indianapolis:20210911T143000
DTSTAMP:20260423T190954
CREATED:20210905T175141Z
LAST-MODIFIED:20210905T175201Z
UID:3458-1631358000-1631370600@benharrisoncamp.org
SUMMARY:Camp Meeting
DESCRIPTION:Camp Business Meeting Held Virtually
URL:http://benharrisoncamp.org/event/camp-meeting-20/
CATEGORIES:Camp Meeting
END:VEVENT
BEGIN:VEVENT
DTSTART;TZID=America/Indiana/Indianapolis:20210710T110000
DTEND;TZID=America/Indiana/Indianapolis:20210710T140000
DTSTAMP:20260423T190954
CREATED:20210410T203002Z
LAST-MODIFIED:20210410T203002Z
UID:3451-1625914800-1625925600@benharrisoncamp.org
SUMMARY:Camp Meeting
DESCRIPTION:Camp Business Meeting Held Virtually and/or In-Person
URL:http://benharrisoncamp.org/event/camp-meeting-19/
LOCATION:MCL Cafeteria – Speedway Shopping Center\, 6002 Crawfordsville Rd\, Speedway\, IN\, 46224\, United States
END:VEVENT
BEGIN:VEVENT
DTSTART;TZID=America/Indiana/Indianapolis:20210410T110000
DTEND;TZID=America/Indiana/Indianapolis:20210410T133000
DTSTAMP:20260423T190954
CREATED:20210303T134723Z
LAST-MODIFIED:20210303T134858Z
UID:3443-1618052400-1618061400@benharrisoncamp.org
SUMMARY:Camp Meeting
DESCRIPTION:Camp Meeting – Virtually via Zoom
URL:http://benharrisoncamp.org/event/camp-meeting-18/
CATEGORIES:Camp Meeting
END:VEVENT
BEGIN:VEVENT
DTSTART;TZID=America/Indiana/Indianapolis:20210313T110000
DTEND;TZID=America/Indiana/Indianapolis:20210313T133000
DTSTAMP:20260423T190954
CREATED:20210303T134334Z
LAST-MODIFIED:20210303T134601Z
UID:3440-1615633200-1615642200@benharrisoncamp.org
SUMMARY:Camp Meeting
DESCRIPTION:Camp Meeting – Virtually via Zoom
URL:http://benharrisoncamp.org/event/ben-harrison-camp-meeting-via-zoom/
CATEGORIES:Camp Meeting
END:VEVENT
BEGIN:VEVENT
DTSTART;TZID=America/Indiana/Indianapolis:20210221T110000
DTEND;TZID=America/Indiana/Indianapolis:20210221T133000
DTSTAMP:20260423T190954
CREATED:20210212T182832Z
LAST-MODIFIED:20210212T182832Z
UID:3429-1613905200-1613914200@benharrisoncamp.org
SUMMARY:Camp Meeting
DESCRIPTION:Camp Meeting – Virtually via Zoom
URL:http://benharrisoncamp.org/event/camp-meeting-17/
CATEGORIES:Camp Meeting
END:VEVENT
BEGIN:VEVENT
DTSTART;TZID=UTC:20191221T111500
DTEND;TZID=UTC:20191221T141500
DTSTAMP:20260423T190954
CREATED:20181111T200146Z
LAST-MODIFIED:20191211T124118Z
UID:2695-1576926900-1576937700@benharrisoncamp.org
SUMMARY:Camp Meeting
DESCRIPTION:>CAMP OFFICER INSTALLATION FOR 2020<<< \nCamp business meeting from 11:15 am. until 1:15 pm. Presentation from 1:30 pm until 2:15 pm.  Lunch is available for purchase. Presentation Topic: Camp SHOW & TELL.
URL:http://benharrisoncamp.org/event/camp-meeting-14/
LOCATION:MCL Cafeteria – Speedway Shopping Center\, 6002 Crawfordsville Rd\, Speedway\, IN\, 46224\, United States
CATEGORIES:Camp Meeting
END:VEVENT
BEGIN:VEVENT
DTSTART;TZID=America/Indiana/Indianapolis:20191214T110000
DTEND;TZID=America/Indiana/Indianapolis:20191214T120000
DTSTAMP:20260423T190954
CREATED:20191211T124459Z
LAST-MODIFIED:20191211T124459Z
UID:3250-1576321200-1576324800@benharrisoncamp.org
SUMMARY:Wreaths Across America
DESCRIPTION:Crown Hill National Cemetery (service held behind the Gothic Chapel). All SVR and SUVCW members welcome. Co. D\, 27th Indiana Volunteer Infantry\, Sons of Veterans Reserve is providing the honor guard.
URL:http://benharrisoncamp.org/event/wreaths-across-america/
LOCATION:Crown Hill Cemetery\, 700 38th St\, Indianapolis\, IN\, 46208\, United States
CATEGORIES:Ben Harrison Camp No. 356,Sons of Veterans Reserve
END:VEVENT
BEGIN:VEVENT
DTSTART;VALUE=DATE:20191123
DTEND;VALUE=DATE:20191124
DTSTAMP:20260423T190954
CREATED:20181127T234916Z
LAST-MODIFIED:20181127T234916Z
UID:2787-1574467200-1574553599@benharrisoncamp.org
SUMMARY:Remembrance Day (PA) 2019
DESCRIPTION:Remembrance Day at Gettysburg\, PA.
URL:http://benharrisoncamp.org/event/remembrance-day-pa-2019/
LOCATION:Gettysburg\, Gettysburg\, PA\, United States
CATEGORIES:Remembrance Day,Sons of Veterans Reserve
END:VEVENT
BEGIN:VEVENT
DTSTART;TZID=UTC:20191109T111500
DTEND;TZID=UTC:20191109T111500
DTSTAMP:20260423T190954
CREATED:20181111T200534Z
LAST-MODIFIED:20181111T200534Z
UID:2701-1573298100-1573298100@benharrisoncamp.org
SUMMARY:Camp Meeting
DESCRIPTION:Camp business meeting. Election of Camp Officers. Lunch is available for purchase. Brother John Copeland will give the Civil War presentation during the lunch break. Eliza E. George No. 356\, Auxiliary to the Sons of Union Veterans of the Civil War meets concurrently.
URL:http://benharrisoncamp.org/event/camp-meeting-16/
LOCATION:MCL Cafeteria – Speedway Shopping Center\, 6002 Crawfordsville Rd\, Speedway\, IN\, 46224\, United States
CATEGORIES:Camp Meeting
END:VEVENT
BEGIN:VEVENT
DTSTART;TZID=UTC:20191012T111500
DTEND;TZID=UTC:20191012T111500
DTSTAMP:20260423T190954
CREATED:20181111T200308Z
LAST-MODIFIED:20181111T200336Z
UID:2698-1570878900-1570878900@benharrisoncamp.org
SUMMARY:Camp Meeting
DESCRIPTION:Camp business meeting. Lunch is available for purchase. Brother Bill Hendricks will give the Civil War presentation during the lunch break. Eliza E. George No. 356\, Auxiliary to the Sons of Union Veterans of the Civil War meets concurrently.
URL:http://benharrisoncamp.org/event/camp-meeting-15/
LOCATION:MCL Cafeteria – Speedway Shopping Center\, 6002 Crawfordsville Rd\, Speedway\, IN\, 46224\, United States
CATEGORIES:Camp Meeting
END:VEVENT
BEGIN:VEVENT
DTSTART;TZID=UTC:20190914T111500
DTEND;TZID=UTC:20190914T111500
DTSTAMP:20260423T190954
CREATED:20181111T200018Z
LAST-MODIFIED:20181111T200018Z
UID:2693-1568459700-1568459700@benharrisoncamp.org
SUMMARY:Camp Meeting
DESCRIPTION:Camp business meeting. Lunch is available for purchase. Camp SHOW & TELL during the lunch break. Eliza E. George No. 356\, Auxiliary to the Sons of Union Veterans of the Civil War meets concurrently.
URL:http://benharrisoncamp.org/event/camp-meeting-13/
LOCATION:MCL Cafeteria – Speedway Shopping Center\, 6002 Crawfordsville Rd\, Speedway\, IN\, 46224\, United States
CATEGORIES:Camp Meeting
END:VEVENT
BEGIN:VEVENT
DTSTART;TZID=UTC:20190810T111500
DTEND;TZID=UTC:20190810T143000
DTSTAMP:20260423T190954
CREATED:20181111T203531Z
LAST-MODIFIED:20181111T203531Z
UID:2720-1565435700-1565447400@benharrisoncamp.org
SUMMARY:No Camp Meeting
DESCRIPTION:No Camp meeting. National Encampment instead.
URL:http://benharrisoncamp.org/event/no-camp-meeting-8/
CATEGORIES:Ben Harrison Camp No. 356,Camp Meeting,SUVCW
END:VEVENT
BEGIN:VEVENT
DTSTART;VALUE=DATE:20190808
DTEND;VALUE=DATE:20190812
DTSTAMP:20260423T190954
CREATED:20181127T235342Z
LAST-MODIFIED:20181127T235342Z
UID:2789-1565222400-1565567999@benharrisoncamp.org
SUMMARY:National Encampment (OH)
DESCRIPTION:The Department of Ohio\, Sons of Union Veterans of the Civil War invites you to the Buckeye State for the 138th Annual Encampment of the Allied Orders of the Grand Army of the Republic to be held in Independence\, OH on August 8 – August 11\, 2019.  Information will be posted here as it is made available.
URL:http://benharrisoncamp.org/event/national-encampment-oh/
LOCATION:Independence\, OH\, Independence\, Ohio
CATEGORIES:Encampment,SUVCW
END:VEVENT
BEGIN:VEVENT
DTSTART;TZID=UTC:20190713T111500
DTEND;TZID=UTC:20190713T150000
DTSTAMP:20260423T190954
CREATED:20181111T195736Z
LAST-MODIFIED:20190516T173909Z
UID:2691-1563016500-1563030000@benharrisoncamp.org
SUMMARY:Camp Meeting
DESCRIPTION:Camp business meeting. Lunch is available for purchase. Brother Tim Beck\, PCC will give the Civil War presentation during the lunch break. Eliza E. George No. 356\, Auxiliary to the Sons of Union Veterans of the Civil War meets concurrently.
URL:http://benharrisoncamp.org/event/camp-meeting-12/
LOCATION:MCL Cafeteria – Speedway Shopping Center\, 6002 Crawfordsville Rd\, Speedway\, IN\, 46224\, United States
CATEGORIES:Camp Meeting
END:VEVENT
BEGIN:VEVENT
DTSTART;TZID=UTC:20190601T090000
DTEND;TZID=UTC:20190601T160000
DTSTAMP:20260423T190954
CREATED:20181111T202057Z
LAST-MODIFIED:20181111T202057Z
UID:2708-1559379600-1559404800@benharrisoncamp.org
SUMMARY:Department of Indiana Encampment 2019
DESCRIPTION:Department of Indiana Encampment (convention). Business meeting restricted to SUVCW members.
URL:http://benharrisoncamp.org/event/department-of-indiana-encampment-2019/
LOCATION:Kokomo-Howard County Public Library – South Branch\, 1755 E. Center Rd.\, Kokomo\, IN\, 46902\, United States
CATEGORIES:Encampment,SUVCW
END:VEVENT
BEGIN:VEVENT
DTSTART;TZID=UTC:20190527T110000
DTEND;TZID=UTC:20190527T110000
DTSTAMP:20260423T190954
CREATED:20181111T202728Z
LAST-MODIFIED:20181111T202728Z
UID:2712-1558954800-1558954800@benharrisoncamp.org
SUMMARY:Decoration (Memorial) Day 2019
DESCRIPTION:Observance of Decoration Day (Memorial Day) honoring Captain Richard Burns\, 3rd Battery Indiana Light Artillery at Crown Hill Cemetery\, Section 4. FREE public event. Service by Ben Harrison Camp No. 356\, SUVCW and Eliza E. George No. 356\, ASUVCW. Presentation of the colors\, volleys\, and sounding of taps by Co. D\, 27th Indiana Volunteer Infantry\, Sons of Veterans Reserve. \n\n+ Google Calendar
URL:http://benharrisoncamp.org/event/decoration-memorial-day-2019/
LOCATION:Crown Hill Cemetery\, 700 38th St\, Indianapolis\, IN\, 46208\, United States
CATEGORIES:Ben Harrison Camp No. 356,Memorial Service,Sons of Veterans Reserve,SUVCW
END:VEVENT
END:VCALENDAR