BEGIN:VCALENDAR
VERSION:2.0
PRODID:-//Ben Harrison Camp No. 356, Sons of Union Veterans of the Civil War - Department of Indiana | Indianapolis, Indiana - ECPv6.13.2.1//NONSGML v1.0//EN
CALSCALE:GREGORIAN
METHOD:PUBLISH
X-WR-CALNAME:Ben Harrison Camp No. 356, Sons of Union Veterans of the Civil War - Department of Indiana | Indianapolis, Indiana
X-ORIGINAL-URL:http://benharrisoncamp.org
X-WR-CALDESC:Events for Ben Harrison Camp No. 356, Sons of Union Veterans of the Civil War - Department of Indiana | Indianapolis, Indiana
REFRESH-INTERVAL;VALUE=DURATION:PT1H
X-Robots-Tag:noindex
X-PUBLISHED-TTL:PT1H
BEGIN:VTIMEZONE
TZID:America/Indiana/Indianapolis
BEGIN:DAYLIGHT
TZOFFSETFROM:-0500
TZOFFSETTO:-0400
TZNAME:EDT
DTSTART:20220313T070000
END:DAYLIGHT
BEGIN:STANDARD
TZOFFSETFROM:-0400
TZOFFSETTO:-0500
TZNAME:EST
DTSTART:20221106T060000
END:STANDARD
BEGIN:DAYLIGHT
TZOFFSETFROM:-0500
TZOFFSETTO:-0400
TZNAME:EDT
DTSTART:20230312T070000
END:DAYLIGHT
BEGIN:STANDARD
TZOFFSETFROM:-0400
TZOFFSETTO:-0500
TZNAME:EST
DTSTART:20231105T060000
END:STANDARD
BEGIN:DAYLIGHT
TZOFFSETFROM:-0500
TZOFFSETTO:-0400
TZNAME:EDT
DTSTART:20240310T070000
END:DAYLIGHT
BEGIN:STANDARD
TZOFFSETFROM:-0400
TZOFFSETTO:-0500
TZNAME:EST
DTSTART:20241103T060000
END:STANDARD
END:VTIMEZONE
BEGIN:VEVENT
DTSTART;TZID=America/Indiana/Indianapolis:20241214T110000
DTEND;TZID=America/Indiana/Indianapolis:20241214T120000
DTSTAMP:20260423T192239
CREATED:20241122T174823Z
LAST-MODIFIED:20241122T184100Z
UID:3663-1734174000-1734177600@benharrisoncamp.org
SUMMARY:Wreaths Across America Ceremony-Williams Creek Cemetery
DESCRIPTION:The Ben Harrison Camp\, along with the 27th Indiana\, Sons of Veterans Reserve\, will be attending the Wreaths Across American wreath laying ceremony\, to take place on December 14\, 2024\, at 11:00AM EST\, at the Williams Creek Cemetery. The Williams Creek Cemetery is located at 845 W 96th St\, Indianapolis\, IN 46260. I would encourage as many members to attend as possible. The 27th SVR will be firing 3 volleys at the end of the ceremony. If you plan on attending\, it would be a good idea to arrive by 10AM EST\, as parking is somewhat limited
URL:http://benharrisoncamp.org/event/wreaths-across-america-ceremony-williams-creek-cemetery-2/
LOCATION:Williams Creek Cemetery\, 845 W 96th St\, Indianapolis\, IN\, 46260\, United States
CATEGORIES:Memorial Service
END:VEVENT
BEGIN:VEVENT
DTSTART;TZID=America/Indiana/Indianapolis:20241109T113000
DTEND;TZID=America/Indiana/Indianapolis:20241109T133000
DTSTAMP:20260423T192239
CREATED:20240820T132938Z
LAST-MODIFIED:20240820T132938Z
UID:3657-1731151800-1731159000@benharrisoncamp.org
SUMMARY:Camp Meeting-Wayne Branch Marion County Public Library
DESCRIPTION:Camp Business Meeting\nWayne Branch Marion County Public Library\n198 South Girls School Road\, Indianapolis\, IN 46231\nNote: This meeting will also be hosted via Zoom
URL:http://benharrisoncamp.org/event/camp-meeting-wayne-branch-marion-county-public-library/
LOCATION:Wayne Branch Marion County Public Library\, 198 South Girls School Road\, Indianapolis\, IN\, 46231\, United States
CATEGORIES:Camp Meeting
END:VEVENT
BEGIN:VEVENT
DTSTART;TZID=America/Indiana/Indianapolis:20240914T113000
DTEND;TZID=America/Indiana/Indianapolis:20240914T133000
DTSTAMP:20260423T192239
CREATED:20240820T132400Z
LAST-MODIFIED:20240820T132400Z
UID:3655-1726313400-1726320600@benharrisoncamp.org
SUMMARY:Camp Meeting-Michigan Road Branch Marion County Public Library
DESCRIPTION:Camp Business Meeting\nMichigan Road Branch Marion County Public Library-Small Meeting Room\n6201 Michigan Road Indianapolis\, IN 46268\nNote: This meeting will also be hosted via Zoom
URL:http://benharrisoncamp.org/event/camp-meeting-michigan-road-branch-marion-county-public-library/
LOCATION:Michigan Road Branch Marion County Public Library\, 6201 Michigan Rd.\, Indianapolis\, IN\, 46268\, United States
CATEGORIES:Camp Meeting
END:VEVENT
BEGIN:VEVENT
DTSTART;TZID=America/Indiana/Indianapolis:20240413T113000
DTEND;TZID=America/Indiana/Indianapolis:20240413T133000
DTSTAMP:20260423T192239
CREATED:20240109T181116Z
LAST-MODIFIED:20240109T181411Z
UID:3645-1713007800-1713015000@benharrisoncamp.org
SUMMARY:Camp Meeting-Decatur Branch Marion County Public Library
DESCRIPTION:Camp Business Meeting\nDecatur Branch Marion County Public Library\n5301 Kentucky Avenue\, Indianapolis\, IN 46221\nNote: This meeting will also be hosted via Zoom
URL:http://benharrisoncamp.org/event/camp-meeting-decatur-branch-marion-county-public-library-2/
LOCATION:Decatur Branch Marion County Public Library\, 5301 Kentucky Ave.\, Indianapolis\, IN\, 46221\, United States
CATEGORIES:Camp Meeting
END:VEVENT
BEGIN:VEVENT
DTSTART;TZID=America/Indiana/Indianapolis:20240309T113000
DTEND;TZID=America/Indiana/Indianapolis:20240309T133000
DTSTAMP:20260423T192239
CREATED:20240109T180835Z
LAST-MODIFIED:20240109T181324Z
UID:3641-1709983800-1709991000@benharrisoncamp.org
SUMMARY:Camp Meeting-Decatur Branch Marion County Public Library
DESCRIPTION:Camp Business Meeting\nDecatur Branch Marion County Public Library\n5301 Kentucky Avenue\, Indianapolis\, IN 46221\nNote: This meeting will also be hosted via Zoom
URL:http://benharrisoncamp.org/event/camp-meeting-decatur-branch-marion-county-public-library/
LOCATION:Decatur Branch Marion County Public Library\, 5301 Kentucky Ave.\, Indianapolis\, IN\, 46221\, United States
CATEGORIES:Camp Meeting
END:VEVENT
BEGIN:VEVENT
DTSTART;TZID=America/Indiana/Indianapolis:20240113T113000
DTEND;TZID=America/Indiana/Indianapolis:20240113T133000
DTSTAMP:20260423T192239
CREATED:20240109T175153Z
LAST-MODIFIED:20240109T175153Z
UID:3639-1705145400-1705152600@benharrisoncamp.org
SUMMARY:Camp Meeting-Zoom Only
DESCRIPTION:This meeting will be ZOOM ONLY
URL:http://benharrisoncamp.org/event/camp-meeting-zoom-only-2/
LOCATION:IN
CATEGORIES:Camp Meeting
END:VEVENT
BEGIN:VEVENT
DTSTART;TZID=America/Indiana/Indianapolis:20231209T113000
DTEND;TZID=America/Indiana/Indianapolis:20231209T133000
DTSTAMP:20260423T192239
CREATED:20230606T171819Z
LAST-MODIFIED:20230606T171819Z
UID:3621-1702121400-1702128600@benharrisoncamp.org
SUMMARY:Camp Meeting
DESCRIPTION:Camp Business Meeting – Speedway MCL Cafeteria\n6002 Crawfordsville Road\, Indianapolis\, IN 46224\nNote: This meeting will also be hosted via Zoom
URL:http://benharrisoncamp.org/event/camp-meeting-38/
LOCATION:MCL Cafeteria – Speedway Shopping Center\, 6002 Crawfordsville Rd\, Speedway\, IN\, 46224\, United States
CATEGORIES:Camp Meeting
END:VEVENT
BEGIN:VEVENT
DTSTART;TZID=America/Indiana/Indianapolis:20231111T113000
DTEND;TZID=America/Indiana/Indianapolis:20231111T133000
DTSTAMP:20260423T192239
CREATED:20230606T171724Z
LAST-MODIFIED:20230606T171835Z
UID:3619-1699702200-1699709400@benharrisoncamp.org
SUMMARY:Camp Meeting
DESCRIPTION:Camp Business Meeting – Speedway MCL Cafeteria\n6002 Crawfordsville Road\, Indianapolis\, IN 46224\nNote: This meeting will also be hosted via Zoom
URL:http://benharrisoncamp.org/event/camp-meeting-37/
LOCATION:MCL Cafeteria – Speedway Shopping Center\, 6002 Crawfordsville Rd\, Speedway\, IN\, 46224\, United States
CATEGORIES:Camp Meeting
END:VEVENT
BEGIN:VEVENT
DTSTART;TZID=America/Indiana/Indianapolis:20231014T113000
DTEND;TZID=America/Indiana/Indianapolis:20231014T133000
DTSTAMP:20260423T192239
CREATED:20230606T171615Z
LAST-MODIFIED:20230606T171615Z
UID:3617-1697283000-1697290200@benharrisoncamp.org
SUMMARY:Camp Meeting
DESCRIPTION:Camp Business Meeting – Speedway MCL Cafeteria\n6002 Crawfordsville Road\, Indianapolis\, IN 46224\nNote: This meeting will also be hosted via Zoom
URL:http://benharrisoncamp.org/event/camp-meeting-36/
LOCATION:MCL Cafeteria – Speedway Shopping Center\, 6002 Crawfordsville Rd\, Speedway\, IN\, 46224\, United States
CATEGORIES:Camp Meeting
END:VEVENT
BEGIN:VEVENT
DTSTART;TZID=America/Indiana/Indianapolis:20230909T113000
DTEND;TZID=America/Indiana/Indianapolis:20230909T133000
DTSTAMP:20260423T192239
CREATED:20230606T171357Z
LAST-MODIFIED:20230907T145132Z
UID:3613-1694259000-1694266200@benharrisoncamp.org
SUMMARY:Camp Meeting - UPDATE ZOOM ONLY
DESCRIPTION:ZOOM ONLY
URL:http://benharrisoncamp.org/event/camp-meeting-34/
LOCATION:Decatur Branch Marion County Public Library\, 5301 Kentucky Ave.\, Indianapolis\, IN\, 46221\, United States
CATEGORIES:Camp Meeting
END:VEVENT
BEGIN:VEVENT
DTSTART;TZID=America/Indiana/Indianapolis:20230708T113000
DTEND;TZID=America/Indiana/Indianapolis:20230708T133000
DTSTAMP:20260423T192239
CREATED:20230606T171136Z
LAST-MODIFIED:20230606T171136Z
UID:3611-1688815800-1688823000@benharrisoncamp.org
SUMMARY:Camp Meeting - Zoom Only
DESCRIPTION:Camp Business Meeting – Virtually Via Zoom Only
URL:http://benharrisoncamp.org/event/camp-meeting-zoom-only/
LOCATION:IN
CATEGORIES:Camp Meeting
END:VEVENT
BEGIN:VEVENT
DTSTART;TZID=America/Indiana/Indianapolis:20230529T110000
DTEND;TZID=America/Indiana/Indianapolis:20230529T120000
DTSTAMP:20260423T192239
CREATED:20230216T192612Z
LAST-MODIFIED:20230510T120343Z
UID:3602-1685358000-1685361600@benharrisoncamp.org
SUMMARY:Ben Harrison Camp 2023 Memorial Day Ceremony
DESCRIPTION:At the grave of past camp member Graham Morey – St Joseph Cemetery\, 2446 S. Meridian Street\, Indianapolis\, IN
URL:http://benharrisoncamp.org/event/ben-harrison-camp-2023-memorial-day-ceremony/
LOCATION:IN
CATEGORIES:Memorial Service
END:VEVENT
BEGIN:VEVENT
DTSTART;TZID=America/Indiana/Indianapolis:20230513T090000
DTEND;TZID=America/Indiana/Indianapolis:20230513T130000
DTSTAMP:20260423T192239
CREATED:20230216T191946Z
LAST-MODIFIED:20230216T192443Z
UID:3598-1683968400-1683982800@benharrisoncamp.org
SUMMARY:Ben Harrison Camp Annual Cemetery Workday
DESCRIPTION:Eagle Creek Cemetery (aka Little Eagle Creek Cemetery) – Westfield Hamilton County Indiana. Located at the intersection of West 156th St & Little Eagle Creek Ave. Click Here for a Google Map
URL:http://benharrisoncamp.org/event/annual-camp-cemetery-cleaning/
LOCATION:IN
CATEGORIES:Cemetery Cleaning
END:VEVENT
BEGIN:VEVENT
DTSTART;TZID=America/Indiana/Indianapolis:20230429T093000
DTEND;TZID=America/Indiana/Indianapolis:20230429T150000
DTSTAMP:20260423T192239
CREATED:20230216T191226Z
LAST-MODIFIED:20230216T191226Z
UID:3596-1682760600-1682780400@benharrisoncamp.org
SUMMARY:137th Annual Encampment - Department of Indiana\, SUVCW
DESCRIPTION:The 137th Annual Encampment will be held on April 29\, 20232 at the Kokomo-Howard County Public Library South Branch\, 1755 E. Center Road Kokomo\, IN. The doors will open at 9:00 a.m. ET and the Encampment will begin promptly at 9:30 a.m. ET. It is requested that all Camps bring their Camp flag and its stand to the Encampment for display. \nThe Lunch meal will be held on-site and is available for advance purchase. Please click on this link to view the 137th Annual Encampment flyer for the Pre-Registration Form and lunch choices. \nSisters of the Allied Orders representing at least the Woman’s Relief Corps and the Ladies of the Grand Army of the Republic will also be meeting during the Encampment. Our Sisters will join us for a joint opening of the Encampment and during lunch.
URL:http://benharrisoncamp.org/event/137th-annual-encampment-department-of-indiana-suvcw/
LOCATION:IN
CATEGORIES:Department Encampment
END:VEVENT
BEGIN:VEVENT
DTSTART;TZID=America/Indiana/Indianapolis:20230408T113000
DTEND;TZID=America/Indiana/Indianapolis:20230408T140000
DTSTAMP:20260423T192239
CREATED:20230216T190735Z
LAST-MODIFIED:20230216T190735Z
UID:3594-1680953400-1680962400@benharrisoncamp.org
SUMMARY:Camp Meeting
DESCRIPTION:Camp Business Meeting – Speedway MCL Cafeteria\n6002 Crawfordsville Road\, Indianapolis\, IN 46224\nNote: This meeting will also be hosted via Zoom
URL:http://benharrisoncamp.org/event/camp-meeting-33/
LOCATION:IN
CATEGORIES:Camp Meeting
END:VEVENT
BEGIN:VEVENT
DTSTART;TZID=America/Indiana/Indianapolis:20230311T113000
DTEND;TZID=America/Indiana/Indianapolis:20230311T140000
DTSTAMP:20260423T192239
CREATED:20230216T190634Z
LAST-MODIFIED:20230220T160027Z
UID:3592-1678534200-1678543200@benharrisoncamp.org
SUMMARY:Camp Meeting-VIRTUAL ONLY VIA ZOOM
DESCRIPTION:Camp Business Meeting – VIRUTAL ONLY VIA ZOOM
URL:http://benharrisoncamp.org/event/camp-meeting-32/
LOCATION:IN
CATEGORIES:Camp Meeting
END:VEVENT
BEGIN:VEVENT
DTSTART;TZID=America/Indiana/Indianapolis:20230218T113000
DTEND;TZID=America/Indiana/Indianapolis:20230218T140000
DTSTAMP:20260423T192239
CREATED:20221212T181956Z
LAST-MODIFIED:20221212T181956Z
UID:3579-1676719800-1676728800@benharrisoncamp.org
SUMMARY:Camp Meeting
DESCRIPTION:Camp Business Meeting – Speedway MCL Cafeteria\n6002 Crawfordsville Road\, Indianapolis\, IN 46224\nNote: This meeting will also be hosted via Zoom
URL:http://benharrisoncamp.org/event/camp-meeting-31/
LOCATION:IN
CATEGORIES:Camp Meeting
END:VEVENT
BEGIN:VEVENT
DTSTART;TZID=America/Indiana/Indianapolis:20221217T110000
DTEND;TZID=America/Indiana/Indianapolis:20221217T120000
DTSTAMP:20260423T192239
CREATED:20221113T153052Z
LAST-MODIFIED:20221113T160357Z
UID:3569-1671274800-1671278400@benharrisoncamp.org
SUMMARY:Wreaths Across America Ceremony-Williams Creek Cemetery
DESCRIPTION:The Ben Harrison Camp\, along with the 27th Indiana\, Sons of Veterans Reserve\, will be attending the Wreaths Across American wreath laying ceremony\, to take place on December 17\, 2022\, at 11:00AM EST\, at the Williams Creek Cemetery. The Williams Creek Cemetery is located at 845 W 96th St\, Indianapolis\, IN 46260. I would encourage as many members to attend as possible. The 27th SVR will be firing 3 volleys at the end of the ceremony. The Wreaths Across America will be at Williams Creek Cemetery to Remember and Honor our veterans through the laying of Remembrance wreaths on the graves of our country’s fallen heroes and the act of saying the name of each and every veteran aloud. If you plan on attending\, it would be a good idea to arrive a little early as parking might be an issue. \nNote: For the past several years the camp has participated in the Wreath Across America ceremony at Crown Hill National Cemetery\, but the camp has been personally invited to participate in the Wreaths Across America ceremony at the Williams Creek Cemetery. Both ceremonies are worthy events\, but the since the camp has been working at the Williams Creek Cemetery in cleaning\, resetting\, and installing new veteran gravestones over the last several years\, we decided to be participate at the Williams Creek Cemetery ceremony instead.
URL:http://benharrisoncamp.org/event/wreaths-across-america-ceremony-williams-creek-cemetery/
LOCATION:IN
CATEGORIES:Memorial Service
END:VEVENT
BEGIN:VEVENT
DTSTART;TZID=America/Indiana/Indianapolis:20221210T113000
DTEND;TZID=America/Indiana/Indianapolis:20221210T140000
DTSTAMP:20260423T192239
CREATED:20220608T140055Z
LAST-MODIFIED:20220608T140211Z
UID:3551-1670671800-1670680800@benharrisoncamp.org
SUMMARY:Camp Meeting
DESCRIPTION:Camp Business Meeting – Speedway MCL Cafeteria\n6002 Crawfordsville Road\, Indianapolis\, IN 46224\nNote: This meeting will also be hosted via Zoom
URL:http://benharrisoncamp.org/event/camp-meeting-30/
LOCATION:IN
CATEGORIES:Camp Meeting
END:VEVENT
BEGIN:VEVENT
DTSTART;TZID=America/Indiana/Indianapolis:20221112T113000
DTEND;TZID=America/Indiana/Indianapolis:20221112T140000
DTSTAMP:20260423T192239
CREATED:20220608T140018Z
LAST-MODIFIED:20220608T140231Z
UID:3549-1668252600-1668261600@benharrisoncamp.org
SUMMARY:Camp Meeting
DESCRIPTION:Camp Business Meeting – Speedway MCL Cafeteria\n6002 Crawfordsville Road\, Indianapolis\, IN 46224\nNote: This meeting will also be hosted via Zoom
URL:http://benharrisoncamp.org/event/camp-meeting-29/
LOCATION:IN
CATEGORIES:Camp Meeting
END:VEVENT
BEGIN:VEVENT
DTSTART;TZID=America/Indiana/Indianapolis:20221029T090000
DTEND;TZID=America/Indiana/Indianapolis:20221029T170000
DTSTAMP:20260423T192239
CREATED:20220916T131923Z
LAST-MODIFIED:20220916T131923Z
UID:3565-1667034000-1667062800@benharrisoncamp.org
SUMMARY:Department of Indiana 2022 Mid-Year Encampment
DESCRIPTION:The 2022 Mid-Year Encampment will be hosted by John Auten Camp No. 8\, SUVCW on October 29\, 2022. The doors will open at 9:00 a.m. EDT and the Encampment will begin promptly at 9:30 a.m. EDT. \nThe 2022 Mid-Year Encampment will be held at Mishawaka-Penn-Harris Public Library\, 209 Lincolnway East\, Mishawaka\, IN 46544. \nThe Lunch meal will be held on-site and is available for advance purchase. Please see the following link for the Pre-Registration Form and lunch choices:\n2022 Mid-Year Encampment Flyer \nIt is requested that all Camps bring their Camp flag and its stand to the Encampment for display. \nI am very pleased to report that Sisters of the Allied Orders representing at least the Woman’s Relief Corps and the Ladies of the Grand Army of the Republic will also be meeting during the Encampment. Sisters will join us for a joint opening of the Encampment and during lunch. \nOrdered this 3rd Day of September 2022 \nJames M. Floyd\, Jr.\nDepartment Commander\nDepartment of Indiana\, Sons of Union Veterans of the Civil War
URL:http://benharrisoncamp.org/event/department-of-indiana-2022-mid-year-encampment/
LOCATION:IN
CATEGORIES:Department Encampment
END:VEVENT
BEGIN:VEVENT
DTSTART;TZID=America/Indiana/Indianapolis:20221008T113000
DTEND;TZID=America/Indiana/Indianapolis:20221008T140000
DTSTAMP:20260423T192239
CREATED:20220608T135934Z
LAST-MODIFIED:20220608T140247Z
UID:3547-1665228600-1665237600@benharrisoncamp.org
SUMMARY:Camp Meeting
DESCRIPTION:Camp Business Meeting – Speedway MCL Cafeteria\n6002 Crawfordsville Road\, Indianapolis\, IN 46224\nNote: This meeting will also be hosted via Zoom
URL:http://benharrisoncamp.org/event/camp-meeting-28/
LOCATION:IN
CATEGORIES:Camp Meeting
END:VEVENT
BEGIN:VEVENT
DTSTART;TZID=America/Indiana/Indianapolis:20220910T113000
DTEND;TZID=America/Indiana/Indianapolis:20220910T140000
DTSTAMP:20260423T192239
CREATED:20220608T135852Z
LAST-MODIFIED:20220608T140310Z
UID:3545-1662809400-1662818400@benharrisoncamp.org
SUMMARY:Camp Meeting
DESCRIPTION:Camp Business Meeting – Speedway MCL Cafeteria\n6002 Crawfordsville Road\, Indianapolis\, IN 46224\nNote: This meeting will also be hosted via Zoom
URL:http://benharrisoncamp.org/event/camp-meeting-27/
LOCATION:IN
CATEGORIES:Camp Meeting
END:VEVENT
BEGIN:VEVENT
DTSTART;VALUE=DATE:20220811
DTEND;VALUE=DATE:20220815
DTSTAMP:20260423T192239
CREATED:20220608T141453Z
LAST-MODIFIED:20220608T141453Z
UID:3553-1660176000-1660521599@benharrisoncamp.org
SUMMARY:2022 National Encampment - Grand Rapids\, Michigan
DESCRIPTION:See the 2022 National Encampment website for more details: https://www.suvcwmi.org/2022NatEncampment/2022Encampment.php
URL:http://benharrisoncamp.org/event/2022-national-encampment-grand-rapids-michigan/
LOCATION:IN
CATEGORIES:National Encampment
END:VEVENT
BEGIN:VEVENT
DTSTART;TZID=America/Indiana/Indianapolis:20220709T113000
DTEND;TZID=America/Indiana/Indianapolis:20220709T140000
DTSTAMP:20260423T192239
CREATED:20220608T135658Z
LAST-MODIFIED:20220706T183243Z
UID:3543-1657366200-1657375200@benharrisoncamp.org
SUMMARY:Camp Meeting-Via Zoom Only
DESCRIPTION:Note: This meeting will  be hosted via Zoom only
URL:http://benharrisoncamp.org/event/camp-meeting-26/
LOCATION:IN
CATEGORIES:Camp Meeting
END:VEVENT
BEGIN:VEVENT
DTSTART;TZID=America/Indiana/Indianapolis:20220604T113000
DTEND;TZID=America/Indiana/Indianapolis:20220604T150000
DTSTAMP:20260423T192239
CREATED:20220525T142231Z
LAST-MODIFIED:20220525T142231Z
UID:3538-1654342200-1654354800@benharrisoncamp.org
SUMMARY:136th Annual Encampment of the Sons of Union Veterans of the Civil War\, Department of Indiana
DESCRIPTION:136th Annual Encampment of the Sons of Union Veterans of the Civil War\, Department of Indiana \nJune 4\, 2022\, 9:30AM EDT\nKokomo-Howard County Public Library\, South Branch\n1755 E Center Rd\nKokomo\, IN \nDue to limited seating please reserve your seat:\nContact Commander\, Dennis Hutchinson at 31stind@gmail.com
URL:http://benharrisoncamp.org/event/136th-annual-encampment-of-the-sons-of-union-veterans-of-the-civil-war-department-of-indiana/
LOCATION:IN
CATEGORIES:Encampment
END:VEVENT
BEGIN:VEVENT
DTSTART;TZID=America/Indiana/Indianapolis:20220530T110000
DTEND;TZID=America/Indiana/Indianapolis:20220530T113000
DTSTAMP:20260423T192239
CREATED:20220525T141654Z
LAST-MODIFIED:20220525T143845Z
UID:3535-1653908400-1653910200@benharrisoncamp.org
SUMMARY:Ben Harrison Camp 2022 Memorial Day Service
DESCRIPTION:Please join us for the Ben Harrison Camp annual Memorial Day Service to take place at the Acton Cemetery (southeast side of Marion County)\, on Monday\, May 30\, 2022. The service starts at 11:00AM EDT. \nDownload the Ben Harrison Camp 2022 Memorial Day Program Here: http://benharrisoncamp.org/wp-content/uploads/2020/03/Ben-Harrison-Camp-Memorial-Day-2022-Program.pdf
URL:http://benharrisoncamp.org/event/ben-harrison-camp-annual-memorial-day-service/
LOCATION:Acton Cemetery\, 7900 Acton Rd\, Indianapolis\, Indiana\, 46259\, United States
CATEGORIES:Memorial Service
END:VEVENT
BEGIN:VEVENT
DTSTART;TZID=America/Indiana/Indianapolis:20220514T090000
DTEND;TZID=America/Indiana/Indianapolis:20220514T140000
DTSTAMP:20260423T192239
CREATED:20220213T185914Z
LAST-MODIFIED:20220213T190236Z
UID:3526-1652518800-1652536800@benharrisoncamp.org
SUMMARY:Ben Harrison Camp Annual Cemetery Work Day
DESCRIPTION:The Ben Harrison Camp Annual Cemetery Work Day at the Acton Cemetery\, Acton\, Franklin Township\, Marion County. Work starts at 9:00AM
URL:http://benharrisoncamp.org/event/camp-annual-cemetery-work-day/
LOCATION:Acton Cemetery\, 7900 Acton Rd\, Indianapolis\, Indiana\, 46259\, United States
CATEGORIES:Cemetery Cleaning
END:VEVENT
BEGIN:VEVENT
DTSTART;TZID=America/Indiana/Indianapolis:20220409T113000
DTEND;TZID=America/Indiana/Indianapolis:20220409T140000
DTSTAMP:20260423T192239
CREATED:20220213T185549Z
LAST-MODIFIED:20220213T185549Z
UID:3524-1649503800-1649512800@benharrisoncamp.org
SUMMARY:Camp Meeting
DESCRIPTION:Camp Business Meeting – Speedway MCL Cafeteria\n6002 Crawfordsville Road\, Indianapolis\, IN 46224\nNote: This meeting will also be hosted via Zoom
URL:http://benharrisoncamp.org/event/camp-meeting-25/
LOCATION:MCL Cafeteria – Speedway Shopping Center\, 6002 Crawfordsville Rd\, Speedway\, IN\, 46224\, United States
CATEGORIES:Camp Meeting
END:VEVENT
BEGIN:VEVENT
DTSTART;TZID=America/Indiana/Indianapolis:20220312T113000
DTEND;TZID=America/Indiana/Indianapolis:20220312T140000
DTSTAMP:20260423T192239
CREATED:20220213T185331Z
LAST-MODIFIED:20220213T185331Z
UID:3522-1647084600-1647093600@benharrisoncamp.org
SUMMARY:Camp Meeting
DESCRIPTION:Camp Business Meeting – Speedway MCL Cafeteria\n6002 Crawfordsville Road\, Indianapolis\, IN 46224\nNote: This meeting will also be hosted via Zoom
URL:http://benharrisoncamp.org/event/camp-meeting-24/
LOCATION:MCL Cafeteria – Speedway Shopping Center\, 6002 Crawfordsville Rd\, Speedway\, IN\, 46224\, United States
CATEGORIES:Camp Meeting
END:VEVENT
END:VCALENDAR