BEGIN:VCALENDAR
VERSION:2.0
PRODID:-//Ben Harrison Camp No. 356, Sons of Union Veterans of the Civil War - Department of Indiana | Indianapolis, Indiana - ECPv6.13.2.1//NONSGML v1.0//EN
CALSCALE:GREGORIAN
METHOD:PUBLISH
X-WR-CALNAME:Ben Harrison Camp No. 356, Sons of Union Veterans of the Civil War - Department of Indiana | Indianapolis, Indiana
X-ORIGINAL-URL:http://benharrisoncamp.org
X-WR-CALDESC:Events for Ben Harrison Camp No. 356, Sons of Union Veterans of the Civil War - Department of Indiana | Indianapolis, Indiana
REFRESH-INTERVAL;VALUE=DURATION:PT1H
X-Robots-Tag:noindex
X-PUBLISHED-TTL:PT1H
BEGIN:VTIMEZONE
TZID:America/Indiana/Indianapolis
BEGIN:DAYLIGHT
TZOFFSETFROM:-0500
TZOFFSETTO:-0400
TZNAME:EDT
DTSTART:20250309T070000
END:DAYLIGHT
BEGIN:STANDARD
TZOFFSETFROM:-0400
TZOFFSETTO:-0500
TZNAME:EST
DTSTART:20251102T060000
END:STANDARD
END:VTIMEZONE
BEGIN:VEVENT
DTSTART;VALUE=DATE:20250807
DTEND;VALUE=DATE:20250811
DTSTAMP:20260424T033931
CREATED:20241122T181715Z
LAST-MODIFIED:20241122T181715Z
UID:3693-1754524800-1754870399@benharrisoncamp.org
SUMMARY:National Encampment – Houston\, TX
DESCRIPTION:National Encampment – Houston\, TX\, August 7-10\, 2025
URL:http://benharrisoncamp.org/event/national-encampment-houston-tx/
CATEGORIES:National Encampment
END:VEVENT
END:VCALENDAR