BEGIN:VCALENDAR
VERSION:2.0
PRODID:-//Ben Harrison Camp No. 356, Sons of Union Veterans of the Civil War - Department of Indiana | Indianapolis, Indiana - ECPv6.13.2.1//NONSGML v1.0//EN
CALSCALE:GREGORIAN
METHOD:PUBLISH
X-ORIGINAL-URL:http://benharrisoncamp.org
X-WR-CALDESC:Events for Ben Harrison Camp No. 356, Sons of Union Veterans of the Civil War - Department of Indiana | Indianapolis, Indiana
REFRESH-INTERVAL;VALUE=DURATION:PT1H
X-Robots-Tag:noindex
X-PUBLISHED-TTL:PT1H
BEGIN:VTIMEZONE
TZID:America/Indiana/Indianapolis
BEGIN:DAYLIGHT
TZOFFSETFROM:-0500
TZOFFSETTO:-0400
TZNAME:EDT
DTSTART:20240310T070000
END:DAYLIGHT
BEGIN:STANDARD
TZOFFSETFROM:-0400
TZOFFSETTO:-0500
TZNAME:EST
DTSTART:20241103T060000
END:STANDARD
END:VTIMEZONE
BEGIN:VEVENT
DTSTART;TZID=America/Indiana/Indianapolis:20241214T110000
DTEND;TZID=America/Indiana/Indianapolis:20241214T120000
DTSTAMP:20260424T153332
CREATED:20241122T174823Z
LAST-MODIFIED:20241122T184100Z
UID:3663-1734174000-1734177600@benharrisoncamp.org
SUMMARY:Wreaths Across America Ceremony-Williams Creek Cemetery
DESCRIPTION:The Ben Harrison Camp\, along with the 27th Indiana\, Sons of Veterans Reserve\, will be attending the Wreaths Across American wreath laying ceremony\, to take place on December 14\, 2024\, at 11:00AM EST\, at the Williams Creek Cemetery. The Williams Creek Cemetery is located at 845 W 96th St\, Indianapolis\, IN 46260. I would encourage as many members to attend as possible. The 27th SVR will be firing 3 volleys at the end of the ceremony. If you plan on attending\, it would be a good idea to arrive by 10AM EST\, as parking is somewhat limited
URL:http://benharrisoncamp.org/event/wreaths-across-america-ceremony-williams-creek-cemetery-2/
LOCATION:Williams Creek Cemetery\, 845 W 96th St\, Indianapolis\, IN\, 46260\, United States
CATEGORIES:Memorial Service
END:VEVENT
END:VCALENDAR